BEGIN:VCALENDAR
VERSION:2.0
PRODID:-//Florida For Good - ECPv6.3.2//NONSGML v1.0//EN
CALSCALE:GREGORIAN
METHOD:PUBLISH
X-WR-CALNAME:Florida For Good
X-ORIGINAL-URL:https://floridaforgood.com
X-WR-CALDESC:Events for Florida For Good
REFRESH-INTERVAL;VALUE=DURATION:PT1H
X-Robots-Tag:noindex
X-PUBLISHED-TTL:PT1H
BEGIN:VTIMEZONE
TZID:America/New_York
BEGIN:DAYLIGHT
TZOFFSETFROM:-0500
TZOFFSETTO:-0400
TZNAME:EDT
DTSTART:20230312T070000
END:DAYLIGHT
BEGIN:STANDARD
TZOFFSETFROM:-0400
TZOFFSETTO:-0500
TZNAME:EST
DTSTART:20231105T060000
END:STANDARD
BEGIN:DAYLIGHT
TZOFFSETFROM:-0500
TZOFFSETTO:-0400
TZNAME:EDT
DTSTART:20240310T070000
END:DAYLIGHT
BEGIN:STANDARD
TZOFFSETFROM:-0400
TZOFFSETTO:-0500
TZNAME:EST
DTSTART:20241103T060000
END:STANDARD
END:VTIMEZONE
BEGIN:VEVENT
DTSTART;TZID=America/New_York:20231213T183000
DTEND;TZID=America/New_York:20231213T213000
DTSTAMP:20260420T015138
CREATED:20231113T191125Z
LAST-MODIFIED:20231113T191125Z
UID:8409-1702492200-1702503000@floridaforgood.com
SUMMARY:Florida For Good Miami Grow and Gather
DESCRIPTION:Mix and Mingle with at Florida For Good Miami’s Grow and Gather event! \nJoin like-minded professionals at Love Life Cafe on December 13 at 6:30 PM to learn more about our organization and B Corps\, network with other businesses and professionals in the space\, and build community in a casual setting. \nFFGM leaders will be in attendance and can share more about our B Academics programs\, responsible business\, B Corps and Certification\, carbon reduction\, and much more. \nFood and beverages will be available for purchase. Check out all options available at Love Life Cafe on their website at https://www.lovelifecafe.com \nMark your calendars and plan to join us as we build the business for good community in Miami!
URL:https://floridaforgood.com/event/florida-for-good-miami-grow-and-gather/
ATTACH;FMTTYPE=image/png:https://floridaforgood.com/wp-content/uploads/sites/2/2023/11/FFGM_Grow-and-Gather_Dec-13.png
END:VEVENT
BEGIN:VEVENT
DTSTART;TZID=America/New_York:20240221T110000
DTEND;TZID=America/New_York:20240221T120000
DTSTAMP:20260420T015138
CREATED:20240208T173042Z
LAST-MODIFIED:20240214T183441Z
UID:8521-1708513200-1708516800@floridaforgood.com
SUMMARY:Florida For Good Miami Open House
DESCRIPTION:[vc_row type=”in_container” full_screen_row_position=”middle” column_margin=”default” column_direction=”default” column_direction_tablet=”default” column_direction_phone=”default” scene_position=”center” text_color=”dark” text_align=”left” row_border_radius=”none” row_border_radius_applies=”bg” overlay_strength=”0.3″ gradient_direction=”left_to_right” shape_divider_position=”bottom” bg_image_animation=”none” shape_type=””][vc_column column_padding=”no-extra-padding” column_padding_tablet=”inherit” column_padding_phone=”inherit” column_padding_position=”all” column_element_spacing=”default” background_color_opacity=”1″ background_hover_color_opacity=”1″ column_shadow=”none” column_border_radius=”none” column_link_target=”_self” gradient_direction=”left_to_right” overlay_strength=”0.3″ width=”1/1″ tablet_width_inherit=”default” tablet_text_alignment=”default” phone_text_alignment=”default” bg_image_animation=”none” border_type=”simple” column_border_width=”none” column_border_style=”solid”][vc_column_text]As we move closer to introducing our new exclusive membership model in April\, we wanted to invite you and others across your networks to join us for a virtual open house on February 21 at 11 am. This is an ideal event for a refresh or introduction to the work we do at Florida For Good and the perfect time to learn about the changes coming soon to our collective\, and how your dues will deliver programming and value to your organizations. You will also get a chance to meet our team of dedicated volunteers and hear case studies from them about how the B Corp movement and our community has brought success to their respective companies.[/vc_column_text][/vc_column][/vc_row]
URL:https://floridaforgood.com/event/florida-for-good-miami-open-house/
LOCATION:Zoom LInk
ATTACH;FMTTYPE=image/png:https://floridaforgood.com/wp-content/uploads/sites/2/2024/02/Open-House_Jan-2024.png
ORGANIZER;CN="Florida For Good Miami":MAILTO:info@floridaforgood.com
END:VEVENT
BEGIN:VEVENT
DTSTART;TZID=America/New_York:20240305T183000
DTEND;TZID=America/New_York:20240305T203000
DTSTAMP:20260420T015138
CREATED:20240214T184526Z
LAST-MODIFIED:20240214T184526Z
UID:8538-1709663400-1709670600@floridaforgood.com
SUMMARY:FFGM Grow & Gather - Kerry Siggins Talk and Book Signing!
DESCRIPTION:[vc_row type=”in_container” full_screen_row_position=”middle” column_margin=”default” column_direction=”default” column_direction_tablet=”default” column_direction_phone=”default” scene_position=”center” text_color=”dark” text_align=”left” row_border_radius=”none” row_border_radius_applies=”bg” overlay_strength=”0.3″ gradient_direction=”left_to_right” shape_divider_position=”bottom” bg_image_animation=”none”][vc_column column_padding=”no-extra-padding” column_padding_tablet=”inherit” column_padding_phone=”inherit” column_padding_position=”all” column_element_spacing=”default” background_color_opacity=”1″ background_hover_color_opacity=”1″ column_shadow=”none” column_border_radius=”none” column_link_target=”_self” gradient_direction=”left_to_right” overlay_strength=”0.3″ width=”1/1″ tablet_width_inherit=”default” tablet_text_alignment=”default” phone_text_alignment=”default” bg_image_animation=”none” border_type=”simple” column_border_width=”none” column_border_style=”solid”][vc_column_text]Join Florida For Good Miami and acclaimed author Kerry Siggins at our Grow & Gather event on March 5! \nKerry Siggins is the CEO of StoneAge\, the leading global high-pressure industrial cleaning equipment manufacturer. Under her leadership\, StoneAge transformed into a powerhouse in the industrial cleaning industry\, disrupting how the world is cleaned. Kerry also led StoneAge’s transition to become 100% employee-owned\, and StoneAge has won numerous awards\, including Outside Magazine’s Best Places to Work. \nDuring the event\, Kerry will share more about her experience with transformational leadership\, culture creation\, employee ownership\, and cultivating the “Ownership Mindset” – a blueprint for empowering yourself\, others\, and your company to reach your full potential. Be sure to RSVP for this engaging event where you can meet Kerry for her presentation\, book signing* and networking with like-minded professionals from the South Florida Region. \n*Books will be available for purchase at the event.[/vc_column_text][/vc_column][/vc_row]
URL:https://floridaforgood.com/event/ffgm-grow-gather-kerry-siggins-talk-and-book-signing/
LOCATION:Love Life Cafe\, 545 Northwest 26th Street Miami\, FL 33127\, Miami\, FL\, 33127\, United States
ATTACH;FMTTYPE=image/png:https://floridaforgood.com/wp-content/uploads/sites/2/2024/02/Kerry-Siggins.png
ORGANIZER;CN="Florida For Good Miami":MAILTO:info@floridaforgood.com
END:VEVENT
END:VCALENDAR