BEGIN:VCALENDAR
VERSION:2.0
PRODID:-//Florida For Good - ECPv6.3.2//NONSGML v1.0//EN
CALSCALE:GREGORIAN
METHOD:PUBLISH
X-ORIGINAL-URL:https://floridaforgood.com
X-WR-CALDESC:Events for Florida For Good
REFRESH-INTERVAL;VALUE=DURATION:PT1H
X-Robots-Tag:noindex
X-PUBLISHED-TTL:PT1H
BEGIN:VTIMEZONE
TZID:America/New_York
BEGIN:DAYLIGHT
TZOFFSETFROM:-0500
TZOFFSETTO:-0400
TZNAME:EDT
DTSTART:20220313T070000
END:DAYLIGHT
BEGIN:STANDARD
TZOFFSETFROM:-0400
TZOFFSETTO:-0500
TZNAME:EST
DTSTART:20221106T060000
END:STANDARD
END:VTIMEZONE
BEGIN:VEVENT
DTSTART;TZID=America/New_York:20221110T180000
DTEND;TZID=America/New_York:20221110T210000
DTSTAMP:20260419T085206
CREATED:20221110T003707Z
LAST-MODIFIED:20221110T003707Z
UID:7653-1668103200-1668114000@floridaforgood.com
SUMMARY:Miami Climate Community Social Hour
DESCRIPTION:There’s never been a greater opportunity for Miami and South Florida to lead efforts on tackling climate change than now. Our monthly community social hour provides us with a setting to connect\, collaborate\, and co-create a resilient and regenerative future for Miami\, together. \nThis month the meeting will be at Caña Restaurant and Lounge at Hyatt Centric Brickell (2nd floor). Come for the fun\, stay for the community! \nFeatured speaker will be Scarlett Lanzas of Accountable Impact! We also will have a number of local non-profit leaders\, all making a big push leading up to Give Miami Day (Nov 17th). \nAre you a local organization looking to join in collaborating to lead the community? Fill out this form as we look to grow our community support. \nFor sponsorship inquiries – please email Brittany at Brittany@SeaworthyCollective.com
URL:https://floridaforgood.com/event/miami-climate-community-social-hour/
LOCATION:FL
ATTACH;FMTTYPE=image/jpeg:https://floridaforgood.com/wp-content/uploads/sites/2/2022/11/22IMM-CCHappyHourNOV10-2.jpg
END:VEVENT
BEGIN:VEVENT
DTSTART;TZID=America/New_York:20221110T180000
DTEND;TZID=America/New_York:20221110T220000
DTSTAMP:20260419T085206
CREATED:20221109T233828Z
LAST-MODIFIED:20221109T233828Z
UID:7642-1668103200-1668117600@floridaforgood.com
SUMMARY:14th Annual Sustainable Buzz Featuring The Sustainable Business Awards
DESCRIPTION:The Sustainable Business Awards was specifically designed to help promote businesses and organizations in the Tampa Bay area that embrace the triple bottom line –  and that demonstrate a commitment to social responsibility and environmental stewardship.  \nDon’t Miss The Buzz About The Award-Winning Companies November 10th! Walk the Green Carpet while honoring local businesses doing great things for our community and the planet! Join us from 6:00 to 9:30 at The Tampa Garden Club. \n 
URL:https://floridaforgood.com/event/14th-annual-sustainable-buzz-featuring-the-sustainable-business-awards/
LOCATION:FL
ATTACH;FMTTYPE=image/png:https://floridaforgood.com/wp-content/uploads/sites/2/2022/11/sustany-awards.png
END:VEVENT
BEGIN:VEVENT
DTSTART;TZID=America/New_York:20221129T080000
DTEND;TZID=America/New_York:20221201T170000
DTSTAMP:20260419T085206
CREATED:20221110T000801Z
LAST-MODIFIED:20221110T000801Z
UID:7649-1669708800-1669914000@floridaforgood.com
SUMMARY:2022 B Corporation Champions Retreat
DESCRIPTION:Champions Retreat is the marquee gathering of the community of Certified B Corporations in the U.S. & Canada\, partners\, and values-aligned people using business as a force for good to deliver on our vision of an inclusive\, equitable\, and regenerative economic system for all people and the planet. This year’s theme\, Humanity at Work\, celebrates the human values that fuel our business values and allow us to build community and connection. The first time our B Corp community will gather in person in three years\, Champions Retreat 2022 will be an important forum for mobilizing toward collective action around racial equity\, climate justice\, and a stakeholder-driven economic system. \nVisit the Champions Retreat webpage
URL:https://floridaforgood.com/event/2022-b-corporation-champions-retreat/
LOCATION:FL
ATTACH;FMTTYPE=image/png:https://floridaforgood.com/wp-content/uploads/sites/2/2022/11/champions-retreat3.png
END:VEVENT
END:VCALENDAR