BEGIN:VCALENDAR
VERSION:2.0
PRODID:-//Florida For Good - ECPv6.3.2//NONSGML v1.0//EN
CALSCALE:GREGORIAN
METHOD:PUBLISH
X-ORIGINAL-URL:https://floridaforgood.com
X-WR-CALDESC:Events for Florida For Good
REFRESH-INTERVAL;VALUE=DURATION:PT1H
X-Robots-Tag:noindex
X-PUBLISHED-TTL:PT1H
BEGIN:VTIMEZONE
TZID:America/New_York
BEGIN:DAYLIGHT
TZOFFSETFROM:-0500
TZOFFSETTO:-0400
TZNAME:EDT
DTSTART:20230312T070000
END:DAYLIGHT
BEGIN:STANDARD
TZOFFSETFROM:-0400
TZOFFSETTO:-0500
TZNAME:EST
DTSTART:20231105T060000
END:STANDARD
END:VTIMEZONE
BEGIN:VEVENT
DTSTART;TZID=America/New_York:20230816T120000
DTEND;TZID=America/New_York:20230816T124000
DTSTAMP:20260415T202959
CREATED:20230812T012442Z
LAST-MODIFIED:20230812T012442Z
UID:8198-1692187200-1692189600@floridaforgood.com
SUMMARY:B Corp Recertification Coffee Chat
DESCRIPTION:B Lab US & Canada is piloting a series of coffee chats this summer for current B Corps who are in the recertification process. \nBring your favorite cuppa (perhaps B Corp) coffee or tea and join Alexander LeFebvre\, Senior Associate\, Recertification\, as we dive into the various aspects of the recertification review process\, including evaluation\, verification\, wait times\, documentation tips\, and B Impact Assessment navigation. You’ll hear from our Evaluation and Verification teams on the best tips and tricks for a successful recertification review. \nThis coffee chat is hosted bi-weekly on Wednesday at 9:00-9:40 PST // 12:00-12:40 pm EST between June 7 and August 16\, 2023. \nDates: \n\nJune 7\nJune 21\nJuly 19\nAugust 2\nAugust 16\n\nCheck out these other Recertification Resources. \nAccessibility statement: B Lab is committed to providing an equitable and accessible webinar experience for everyone. All webinars will include auto-generated closed captioning via Zoom. If you have accessibility needs or requests for this virtual event\, please email us at events@bcorporation.net so that we can do our best to make this a great experience for you.
URL:https://floridaforgood.com/event/b-corp-recertification-coffee-chat/
LOCATION:FL
ATTACH;FMTTYPE=image/jpeg:https://floridaforgood.com/wp-content/uploads/sites/2/2023/08/RCert-Coffee-Chats_BLab.jpg
END:VEVENT
BEGIN:VEVENT
DTSTART;TZID=America/New_York:20230823T183000
DTEND;TZID=America/New_York:20230823T213000
DTSTAMP:20260415T202959
CREATED:20230812T003739Z
LAST-MODIFIED:20230812T003739Z
UID:8193-1692815400-1692826200@floridaforgood.com
SUMMARY:Florida for Good Miami - Grow and Gather @Love Life Cafe
DESCRIPTION:Join Florida For Good Miami of our signature Grow & Gather event where like-minded professionals can learn more about responsible business. \n\n\n\nMix and Mingle with at Florida For Goos Miami’s Grow and Gather event! \nJoin like-minded professionals at Love Life Cafe on August 23 at 6:30 PM to learn more about our organization and B Corps\, network with other businesses and professionals in the space and build community in a casual setting. \nFFGM leaders will be in attendance and can share more about our B Academics programs\, responsible business\, B Corps and Certification\, carbon reduction and much more. \nFood and beverage will be available for purchase. Check out all options available at Love Life Cafe on their website at https://www.lovelifecafe.com \nMark your calendars and plan to join us as we build the business for good community in Miami!
URL:https://floridaforgood.com/event/florida-for-good-miami-grow-and-gather-love-life-cafe/
LOCATION:FL
ATTACH;FMTTYPE=image/jpeg:https://floridaforgood.com/wp-content/uploads/sites/2/2023/08/Grow-and-Gather-_-Aug-23.jpg
END:VEVENT
BEGIN:VEVENT
DTSTART;TZID=America/New_York:20230824T180000
DTEND;TZID=America/New_York:20230824T210000
DTSTAMP:20260415T202959
CREATED:20230812T002550Z
LAST-MODIFIED:20230812T002550Z
UID:8189-1692900000-1692910800@floridaforgood.com
SUMMARY:Climate Community Social Hour
DESCRIPTION:Join us on August 24th for a special Climate Community Social Hour! For this event\, we are partnering with Clean Miami Beach\, a local registered 501c3 nonprofit organization founded by Miami Beach resident\, Sophie Ringel\, for a 1-hour cleanup of Manatee Bend Park before our social hour! \nAs this social hour we will be focusing on reducing waste\, we will also be featuring 2 guest speakers working towards solving pollution via scalable solutions and policy; Erika Gonzalez and Yadira Diaz. Thanks to the support of our Stage 1 SBA Growth Accelerator Fund Competition grant\, we’re able to come together for a night for interactive collaboration\, discussion\, and community building as well! We’ll also end the night with an asks & offers session to drive further collaboration across the community. \nAbout our speakers & featured event partner: \nErika Gonzalez is a Florida International University alum\, from where she received a B.S. in Hospitality and Tourism Management from the Chaplin School of Hospitality and Tourism Management\, and a certificate in Environmental Studies. Additionally\, she has been certified by The CLEO Institute as a climate change speaker. She now works as a Program Associate on World Wildlife Fund’s Food Loss and Waste team\, taking the lead on hospitality and food service projects. This work includes partnerships and engagement in food waste prevention and reduction with global leaders in hospitality and food service. \nYadira Diaz is a passionate advocate for sustainability and founder of Gradible\, Miami’s first environmental concierge company. With a focus on waste reduction and optimizing businesses’ bottom line\, Gradible strives to make finding sustainable solutions accessible and impactful. As a 100% female minority-owned business\, they take pride in creating positive change in the environment by working with organizations in the hospitality industry and beyond. \nClean Miami Beach is dedicated to keeping our community and natural habitats free of garbage and harmful pollutants with a focus on single-use plastics. The goal is to teach residents\, and educate the youth of today\, how everyone can reuse\, re-purpose\, and reduce the consumption of plastic. By growing the local volunteer community\, Clean Miami Beach will provide a clean place for residents\, visitors\, and a safe environment where our beautiful wildlife can thrive. Clean Miami Beach seeks to continue providing the Miami-Dade community with: healthy outside activities\, ways to connect with nature\, stable social interactions\, a platform for education\, community service hours\, and mentorship opportunities. \nThe event will be in the lounge at Miami Ironside. The address is 7580 NE 4th Ct.
URL:https://floridaforgood.com/event/climate-community-social-hour/
LOCATION:FL
ATTACH;FMTTYPE=image/jpeg:https://floridaforgood.com/wp-content/uploads/sites/2/2023/08/Climate-Social-Hour_Aug-24.jpg
END:VEVENT
BEGIN:VEVENT
DTSTART;TZID=America/New_York:20230829T120000
DTEND;TZID=America/New_York:20230829T133000
DTSTAMP:20260415T202959
CREATED:20230812T005022Z
LAST-MODIFIED:20230812T005115Z
UID:8196-1693310400-1693315800@floridaforgood.com
SUMMARY:Let's Collab! Campaigns
DESCRIPTION:This edition of Let’s Collab! will focus on upcoming B Corp community campaigns: \n\nHoliday (Fall/Winter 2023) – A campaign to encourage consumers to shop from and support B Corps during the holiday season.\nB Corp Month (March 2024) – Our biggest campaign of the year that includes celebrations from B Corps around the world and spreads the word about this growing movement.\nEarth Month (April 2024) – A climate-justice-focused campaign designed to encourage and equip businesses to take action.\n\nJoin us Tuesday\, August 29\, 2023\, 9:00 a.m. – 10:30 a.m. PT | 10:00 a.m. – 11:30 a.m. MT | 11:00 a.m. – 12:30 p.m. CT | 12:00 p.m. – 1:30 p.m. ET \nWhat to expect at this event\nGet a head start on brainstorming and planning with other B Corps on a range of ideas and potential activations. Come ready to chat and connect in breakout rooms! We are creating space for conversations. Engaged attendees will walk away with inspiration and connections to collaborate for upcoming campaigns and beyond. \nWho should attend?\nThis event is for representatives from Certified B Corporations in the U.S. & Canada who are interested in collaborating for upcoming campaign activations. \nWhy Collaborate?\nWhen the B Corp community comes together for campaigns with unified messaging\, we can amplify our collective voice and increase awareness of the B Corp movement. Let’s Collab also provides the perfect opportunity to connect and partner with your fellow B Corps. \n– – – – – – – – – – – – – – – – – – – – – – \nPlease Note: We will NOT be recording this event as it is predominantly for conversation and connection.
URL:https://floridaforgood.com/event/lets-collab-campaigns/
LOCATION:FL
ATTACH;FMTTYPE=image/png:https://floridaforgood.com/wp-content/uploads/sites/2/2023/08/B-Lab_Lets-Collab_Aug-29.png
END:VEVENT
END:VCALENDAR