BEGIN:VCALENDAR
VERSION:2.0
PRODID:-//Florida For Good - ECPv6.3.2//NONSGML v1.0//EN
CALSCALE:GREGORIAN
METHOD:PUBLISH
X-WR-CALNAME:Florida For Good
X-ORIGINAL-URL:https://floridaforgood.com
X-WR-CALDESC:Events for Florida For Good
REFRESH-INTERVAL;VALUE=DURATION:PT1H
X-Robots-Tag:noindex
X-PUBLISHED-TTL:PT1H
BEGIN:VTIMEZONE
TZID:America/New_York
BEGIN:DAYLIGHT
TZOFFSETFROM:-0500
TZOFFSETTO:-0400
TZNAME:EDT
DTSTART:20230312T070000
END:DAYLIGHT
BEGIN:STANDARD
TZOFFSETFROM:-0400
TZOFFSETTO:-0500
TZNAME:EST
DTSTART:20231105T060000
END:STANDARD
END:VTIMEZONE
BEGIN:VEVENT
DTSTART;TZID=America/New_York:20231109T170000
DTEND;TZID=America/New_York:20231109T200000
DTSTAMP:20260415T202839
CREATED:20231019T173314Z
LAST-MODIFIED:20231019T173314Z
UID:8306-1699549200-1699560000@floridaforgood.com
SUMMARY:"Shaping a Sustainable World" - An In-Depth Look at SDGs and Cross-Sector Partnerships
DESCRIPTION:The Miami ‘Canes Community is delighted to invite you to a transformative event hosted by Miami Herbert Business School\, in collaboration with the Miami Alumni Association and Accountable Impact. \nEngage with the sustainability and explore the transformative potential of the SDGs’ cross-sector partnerships. The event will feature alumni experts’ insights\, interactive sessions\, and networking opportunities aimed at empowering individuals and ‘Cane businesses to become change-makers and organizations. \nComplimentary registration includes food and beverages. Limited quantities are available. Deadline to register\, November 7th by the end of the day.
URL:https://floridaforgood.com/event/shaping-a-sustainable-world-an-in-depth-look-at-sdgs-and-cross-sector-partnerships/
LOCATION:FL
ATTACH;FMTTYPE=image/jpeg:https://floridaforgood.com/wp-content/uploads/sites/2/2023/10/UM-SDG-Event.jpg
END:VEVENT
BEGIN:VEVENT
DTSTART;TZID=America/New_York:20231113T080000
DTEND;TZID=America/New_York:20231113T170000
DTSTAMP:20260415T202839
CREATED:20231113T191858Z
LAST-MODIFIED:20231113T191858Z
UID:8416-1699862400-1699894800@floridaforgood.com
SUMMARY:Florida For Good Community Call
DESCRIPTION:Florida For Good will be hosting two community meetings on the following dates and times. You are encouraged to attend as We will review our impact and growth\, challenges\, and new strategic direction starting in 2024. This should be a quick 20-minute presentation and thereafter I will open the call for questions and discussions. I hope to hear your insights\, thoughts\, and suggestions\, so please bring on your best strategy hat!​ \n\nThursday\, November 30th 1:00 pm – 2:00 pm EST –\n\nMeeting link: https://us02web.zoom.us/j/89678731300?pwd=SndqSWZXWjU4cElmWGcvM3laekRudz09\n\n\nThursday\, November 30th 3:00 pm – 4:00 pm EST\n\nMeeting Link: https://us02web.zoom.us/j/83981407918?pwd=NWJKUjAxc21UTU1pOXB5WGVNTit4QT09\n\n\n\nBoth calls will be hybrid (zoom and in-person). I am grateful to Legacy Vacation Resorts for allowing us to use their facilities for this meeting. Please respond to this email by Friday\, 11/17 if you will be attending in person\, and for those coming out of town\, let us know if you will need any room accommodation.  \nI look forward to seeing all of you. If you are unable to attend\, you are welcome to send someone to represent your organization!!
URL:https://floridaforgood.com/event/florida-for-good-community-call/
LOCATION:FL
ATTACH;FMTTYPE=image/png:https://floridaforgood.com/wp-content/uploads/sites/2/2023/11/FFG-Community-call.png
END:VEVENT
END:VCALENDAR