BEGIN:VCALENDAR
VERSION:2.0
PRODID:-//Florida For Good - ECPv6.3.2//NONSGML v1.0//EN
CALSCALE:GREGORIAN
METHOD:PUBLISH
X-WR-CALNAME:Florida For Good
X-ORIGINAL-URL:https://floridaforgood.com
X-WR-CALDESC:Events for Florida For Good
REFRESH-INTERVAL;VALUE=DURATION:PT1H
X-Robots-Tag:noindex
X-PUBLISHED-TTL:PT1H
BEGIN:VTIMEZONE
TZID:America/New_York
BEGIN:DAYLIGHT
TZOFFSETFROM:-0500
TZOFFSETTO:-0400
TZNAME:EDT
DTSTART:20230312T070000
END:DAYLIGHT
BEGIN:STANDARD
TZOFFSETFROM:-0400
TZOFFSETTO:-0500
TZNAME:EST
DTSTART:20231105T060000
END:STANDARD
END:VTIMEZONE
BEGIN:VEVENT
DTSTART;TZID=America/New_York:20231207T120000
DTEND;TZID=America/New_York:20231207T130000
DTSTAMP:20260415T202911
CREATED:20231113T185950Z
LAST-MODIFIED:20231113T185950Z
UID:8400-1701950400-1701954000@floridaforgood.com
SUMMARY:Climate First Fireside Chat: Kat Taylor & Ken LaRoe
DESCRIPTION:🌍 Exciting News! Join us for Climate First Bank’s next Fireside Chat with the incredible Kat Taylor\, Co-Founder and Board Chair of Beneficial State Bank\, the chat will be hosted by none other than Climate First Bank CEO & Founder\, Ken LaRoe! 🌟 \n🌱 Meet Kat Taylor: A visionary in the world of finance and sustainability\, Kat Taylor is the co-founder and Board Chair of Beneficial State Bank. She’s been a driving force behind pioneering sustainable banking practices and tirelessly advocating for social and environmental justice. 🌿 \n🌞 Hosted by Ken LaRoe: The Founder of Climate First Bank and an advocate for a more sustainable future\, Ken LaRoe will be guiding this fireside chat. He’s dedicated his life to transforming the banking industry and fighting for a healthier planet. 🌎
URL:https://floridaforgood.com/event/climate-first-fireside-chat-kat-taylor-ken-laroe/
LOCATION:FL
ATTACH;FMTTYPE=image/png:https://floridaforgood.com/wp-content/uploads/sites/2/2023/11/2_CFB-Fireside-chat-with-BSB.png
END:VEVENT
BEGIN:VEVENT
DTSTART;TZID=America/New_York:20231213T183000
DTEND;TZID=America/New_York:20231213T213000
DTSTAMP:20260415T202911
CREATED:20231113T191125Z
LAST-MODIFIED:20231113T191125Z
UID:8409-1702492200-1702503000@floridaforgood.com
SUMMARY:Florida For Good Miami Grow and Gather
DESCRIPTION:Mix and Mingle with at Florida For Good Miami’s Grow and Gather event! \nJoin like-minded professionals at Love Life Cafe on December 13 at 6:30 PM to learn more about our organization and B Corps\, network with other businesses and professionals in the space\, and build community in a casual setting. \nFFGM leaders will be in attendance and can share more about our B Academics programs\, responsible business\, B Corps and Certification\, carbon reduction\, and much more. \nFood and beverages will be available for purchase. Check out all options available at Love Life Cafe on their website at https://www.lovelifecafe.com \nMark your calendars and plan to join us as we build the business for good community in Miami!
URL:https://floridaforgood.com/event/florida-for-good-miami-grow-and-gather/
LOCATION:FL
ATTACH;FMTTYPE=image/png:https://floridaforgood.com/wp-content/uploads/sites/2/2023/11/FFGM_Grow-and-Gather_Dec-13.png
END:VEVENT
END:VCALENDAR